BEGIN:VCALENDAR
VERSION:2.0
PRODID:-//40 Σύστημα Προσκόπων Έγκωμης - ECPv6.15.20//NONSGML v1.0//EN
CALSCALE:GREGORIAN
METHOD:PUBLISH
X-WR-CALNAME:40 Σύστημα Προσκόπων Έγκωμης
X-ORIGINAL-URL:https://40thscouts.com
X-WR-CALDESC:Events for 40 Σύστημα Προσκόπων Έγκωμης
REFRESH-INTERVAL;VALUE=DURATION:PT1H
X-Robots-Tag:noindex
X-PUBLISHED-TTL:PT1H
BEGIN:VTIMEZONE
TZID:Europe/Moscow
BEGIN:STANDARD
TZOFFSETFROM:+0300
TZOFFSETTO:+0300
TZNAME:MSK
DTSTART:20180101T000000
END:STANDARD
END:VTIMEZONE
BEGIN:VEVENT
DTSTART;TZID=Europe/Moscow:20200222T093000
DTEND;TZID=Europe/Moscow:20200222T180000
DTSTAMP:20260422T124033
CREATED:20200204T103149Z
LAST-MODIFIED:20200204T103149Z
UID:1785-1582363800-1582394400@40thscouts.com
SUMMARY:Δράση Ημέρας Σκέψης (22/02/2020)
DESCRIPTION:Αγαπητοί Γονείς\, \nΌπως πιθανώς να γνωρίζετε\, στις 22 Φεβρουαρίου γιορτάζουμε τη Παγκόσμια Μέρα Σκέψης\, τη Μέρα του Προσκόπου. Είναι η μέρα που οι Πρόσκοποι στρέφουμε τη σκέψη μας σε κάθε άλλο Πρόσκοπο\, σε κάθε παιδί\, σε κάθε νέο και σε κάθε άνθρωπο σε όλο τον κόσμο. \nΕπικοινωνούμε μαζί σας για να σας ενημερώσουμε ότι\, τη μέρα αυτή\, που φέτος είναι Σάββατο\, θα διεξαχθεί\, σε συνεργασία με άλλα τέσσερα συστήματα (40ο Έγκωμης\, 86ο Παλουριώτισσας\, 107ο Λυκαβητού\, 273ο Αεροπροσκόπων Αγλαντζιάς και 283ο Γερίου) κοινή δράση που θα περιλαμβάνει δεντροφύτευση σε συνεργασία με το Δήμο Αγλαντζιάς και το Ανοικτό Πανεπιστήμιο και παιγνίδι πόλεως στην Αγλαντζιά. Στη δράση οι Πρόσκοποι θα έχουν την ευκαιρία να γνωρίσουν ή να ανανεώσουν τη φιλία τους με άλλους προσκόπους από όλη τη Λευκωσία και ταυτόχρονα να προσφέρουν στην κοινότητα. \nΤο Δικαίωμα Συμμετοχής είναι €6 για τον κάθε πρόσκοπο και περιλαμβάνει το αναμνηστικό της Δράσης\, το μεσημεριανό τους φαγητό\, το απογευματινό τους ρόφημα και διάφορα άλλα μικροέξοδα του προγράμματος. \nΟι πρόσκοποι θα συγκεντρωθούν στο βόρειο χώρο στάθμευσης της Σχολής Μελκονιάν (πίσω από το Υφυπουργείο Τουρισμού – Επισυνάπτεται χάρτης) στις 09:30 το αργότερο. Τα παιδιά να προσέλθουν στολή εργασίας (προσκοπικό παντελόνι\, προσκοπική φανέλα και μαντήλι) και να φέρουν μαζί τους μικρή τσαντούλα πλάτης\, αδιάβροχο και το παγούρι τους γεμάτο με νερό. Από εκεί θα πάμε όλοι μαζί με τα πόδια στο χώρο που θα γίνει η Δεντροφύτευση. Υπολογίζουμε να ολοκληρωθεί η Δράση μέχρι τις 18:00. Την ώρα αυτή θα μπορέσετε να παραλάβετε τα παιδιά σας από το μεγάλο χώρο στάθμευσης στη Λεωφόρο Κυρηνείας απέναντι από την εκκλησία του Αποστόλου Ανδρέα. \nΠαρακαλούμε όπως μας επιστρέψετε τη συνημμένη δήλωση συμμετοχής μαζί με το δικαίωμα συμμετοχής μέχρι το Σάββατο 15 Φεβρουαρίου 2020. Τονίζουμε ότι καμία δήλωση δεν θα γίνει δεχτή μετά το πέρας της προθεσμίας. Στη δράση αναμένεται ότι θα συμμετέχουν πέραν των 90 προσκόπων και για το λόγο αυτό τα χρονοδιαγράμματα που θέτουμε θα πρέπει οπωσδήποτε να τηρηθούν. \nΓια κάθε επιπρόσθετη πληροφορία\, παρακαλώ επικοινωνήστε με τον Αρχηγό Ομάδας\, Γιάννη Χριστοδουλίδη αρ. τηλ. 99 307254. \nΣας ευχαριστούμε ακόμα μια φορά για την κατανόηση και συνεργασία. \nΜε εκτίμηση\, \nΓιάννης Χριστοδουλίδης\nΑρχηγός Ομάδας 40ου Σ.Π. Έγκωμης \n  \n Διαβάστε όλη την Ανακοίνωση & Δήλωσης Συμμετοχής
URL:https://40thscouts.com/event/imeraskepsis_2020/
LOCATION:Σχολή Μελκονιάν\, Melkonian\, Aglantzia\, Cyprus
CATEGORIES:Ομάδα Προσκόπων
ATTACH;FMTTYPE=image/jpeg:https://40thscouts.com/wp-content/uploads/2020/02/1911848_10152252659497148_493700258_n.jpg
END:VEVENT
BEGIN:VEVENT
DTSTART;TZID=Europe/Moscow:20200201T083000
DTEND;TZID=Europe/Moscow:20200201T130000
DTSTAMP:20260422T124033
CREATED:20200120T091658Z
LAST-MODIFIED:20200120T092020Z
UID:1777-1580545800-1580562000@40thscouts.com
SUMMARY:Διανυκτέρευση Ενωμοτιών Λύκων και Χελιδονιών
DESCRIPTION:ΘΕΜΑ: Διανυκτέρευση Ενωμοτιών Λύκων και Χελιδονιών 01-02 Φεβρουαρίου\, 2020 \nΑγαπητοί γονείς\, \nΜέσα στα πλαίσια της συνεχούς εκπαίδευσης και του ετήσιου μας προγράμματος\, η Ενωμοτίες Λύκων και Χελιδονιών διοργανώνουν διανυκτέρευση στην Κυπερούντα\, η οποία θα έχει εκπαιδευτικό και ψυχαγωγικό χαρακτήρα. \nΗ δράση θα ξεκινήσει το Σάββατο 01 Φεβρουαρίου στις 8:30 π.μ από το 40ον Σύστημα Προσκόπων Έγκωμης και θα τελειώσει την Κυριακή 02 Φεβρουαρίου στις 13:00 μ.μ. στον ίδιο χώρο. \nΚατά την αναχώρηση οι πρόσκοποι πρέπει να έχουν μαζί τους βραστά ρούχα\, παπούτσια πορείας και μαντήλι. Επίσης\, υπενθυμίζουμε ότι θα πρέπει να έχουν μαζί τους όλα τα ατομικά εφόδιά τους\, τον υπνόσακο και το υπόστρωμα (mat) τακτοποιημένα σε σακίδιο. Είναι πολύ σημαντικό λόγω καιρού οι πρόσκοποι να έχουν ζεστά και αδιάβροχα ρούχα μαζί τους\, αλλά και εφεδρικά ρούχα και παπούτσια. \nΚατά τη διάρκεια της δράσης μερικοί Πρόσκοποι θα δώσουν την προσκοπική τους Υπόσχεση. Για αυτό το λόγο όλοι οι πρόσκοποι πρέπει να έχουν μαζί τους πλήρης προσκοπική στολή.\nΗ δράση αυτή είναι μέρος των ενωμοτιακών δράσεων που οργανώνουν οι Πρόσκοποι με σκοπό την σύσφιξη των σχέσεων και την ψυχαγωγία. \nΤο δικαίωμα συμμετοχής καθορίστηκε στα €20\,00 και περιλαμβάνει μεταφορικά\, διατροφή\, υλικά και άλλα έξοδα δράσης. \nΥπενθυμίζουμε ότι δικαίωμα συμμετοχής έχουν μόνο όσοι πρόσκοποι έχουν διευθετήσει την εγγραφή τους.\nΠαρακαλούμε όπως επιστραφεί η δήλωση συμμετοχής συμπληρωμένη μαζί με το αντίτιμο συμμετοχής το Σάββατο 25 Ιανουαρίου. \nΣας ευχαριστώ\,\nΓιάννης Χριστοδουλίδης\nΑρχηγός Ομάδας \n  \n Διαβάστε όλη την Ανακοίνωση & Δήλωσης Συμμετοχής
URL:https://40thscouts.com/event/kiperounta_01_02_2020/
LOCATION:Κυπερουντα\, Kyperounta\, Cyprus
CATEGORIES:Ομάδα Προσκόπων
ATTACH;FMTTYPE=image/jpeg:https://40thscouts.com/wp-content/uploads/2019/08/Governors_-22.jpg
END:VEVENT
BEGIN:VEVENT
DTSTART;TZID=Europe/Moscow:20191019T144500
DTEND;TZID=Europe/Moscow:20191019T170000
DTSTAMP:20260422T124033
CREATED:20191011T111427Z
LAST-MODIFIED:20191012T161148Z
UID:1671-1571496300-1571504400@40thscouts.com
SUMMARY:JOTI JOTA
DESCRIPTION:Αγαπητοί γονείς\, \nΣτα πλαίσια της φετινής διοργάνωσης του J.O.T.A. (Jamboree-On-The-Air – Τζάμπορη των Αιθέρων) και J.O.T.I. (Jamboree-On-The-Internet – Τζάμπορη στο Internet)  το Σάββατο 19 Οκτωβρίου 2019\, η 40η Ομάδα Προσκόπων Έγκωμης θα πραγματοποιήσει κοινή συγκέντρωση μαζί με την 91η Ομάδα Προσκόπων Αγίου Ανδρέα. \nΗ συγκέντρωση θα διαρκέσει από τις 14:45 μέχρι τις 17:00 και θα έχει εκπαιδευτικό και ψυχαγωγικό χαρακτήρα. Όλοι οι πρόσκοποι να είναι με πλήρη Προσκοπική Στολή και να έχουν παγούρι με νερό μαζί τους. \nΗ συγκέντρωση θα γίνει στο χώρο του 91ου Συστήματος Προσκόπων Αγίου Ανδρέα που βρίσκεται στο Δημοτικό Σχολείο του Αγίου Ανδρέα\, πίσω από το Ολυμπιακό Κολυμβητήριο. \nΔικαίωμα συμμετοχής στη δράση\, έχουν όλοι οι εγγεγραμμένοι πρόσκοποι της Ομάδας και απώτερος σκοπός είναι να συνδεθούν με προσκόπους από όλο τον κόσμο! Το JOTA-JOTI είναι μια ετήσια δράση στην οποία λαμβάνουν μέρος περισσότερο από 1.000.000 Πρόσκοποι και Οδηγοί από όλο τον πλανήτη και κατά την διάρκεια της δράσης οι πρόσκοποι θα έχουν την ευκαιρία να επικοινωνήσουν μέσω ραδιοερασιτεχνών συχνοτήτων και εφαρμογών διαδικτύου. \nΕπίσης σας υπενθυμίζουμε ότι για λόγους ασφάλειας\, όλοι οι πρόσκοποι θα πρέπει να διευθετήσουν τις εγγραφές τους για να μπορούν να συμμετέχουν στη δράση αφού είναι εκτός του χώρου του συστήματος μας.  \nΠαρακαλούμε όπως μας δηλώσετε συμμετοχή για τη δράση\, μέχρι την Τετάρτη 16 Οκτωβρίου 2019\, στέλνοντας μήνυμα στο 99307254. Επίσης να συμπληρωθεί το πιο κάτω απόκομμα και να παραδοθεί την ημέρα της δράσης.  \nΣας ευχαριστούμε\, \nΓιάννης Χριστοδουλίδης (99307254) \nΑρχηγός Ομάδας \n 
URL:https://40thscouts.com/event/joti-jota/
LOCATION:91ου Συστήματος Προσκόπων Αγίου Ανδρέα\, Δημοτικό σχολείο\, Αγίου Ανδρέα\, Christou Karatzia\, Aradippou\, Cyprus
CATEGORIES:Ομάδα Προσκόπων
ATTACH;FMTTYPE=image/png:https://40thscouts.com/wp-content/uploads/2019/10/2019.png
END:VEVENT
END:VCALENDAR